BEGIN:VCALENDAR
VERSION:2.0
PRODID:-//Tukios.com/
BEGIN:VEVENT
UID:2a5d7dc3-8c4d-4d8e-a899-072d0b1ec292@www.musicfuneralservices.com
DTSTAMP:20260420T051840Z
DTSTART:20260420T200000Z
DTEND:20260420T210000Z
SUMMARY:Visitation
DESCRIPTION:
URL:https://www.musicfuneralservices.com/obituaries/henry-livingston
LOCATION:Lakeland Chapel of Music Funeral Services 88 West Main Street  
	Lakeland GA 31635
GEO:31.0402064;-83.0788769
END:VEVENT
END:VCALENDAR