BEGIN:VCALENDAR
VERSION:2.0
PRODID:-//Tukios.com/
BEGIN:VEVENT
UID:b440a9b1-39bc-449c-a92d-d7461957028c@www.musicfuneralservices.com
DTSTAMP:20260420T052031Z
DTSTART:20260420T210000Z
DTEND:20260420T220000Z
SUMMARY:Funeral Service
DESCRIPTION:
URL:https://www.musicfuneralservices.com/obituaries/henry-livingston
LOCATION:Lakeland Chapel of Music Funeral Services 88 West Main Street  
	Lakeland GA 31635
GEO:31.0402064;-83.0788769
END:VEVENT
END:VCALENDAR