BEGIN:VCALENDAR
VERSION:2.0
PRODID:-//Tukios.com/
BEGIN:VEVENT
UID:d7f0510d-9877-4725-b959-65c87ee1184f@www.musicfuneralservices.com
DTSTAMP:20260423T180322Z
DTSTART:20260425T140000Z
DTEND:20260425T150000Z
SUMMARY:Visitation
DESCRIPTION:
URL:https://www.musicfuneralservices.com/obituaries/marie-coble
LOCATION:Music Funeral Services 88 West Main Street  Lakeland GA 31635
GEO:31.0402064;-83.0788769
END:VEVENT
END:VCALENDAR