BEGIN:VCALENDAR
VERSION:2.0
PRODID:-//Tukios.com/
BEGIN:VEVENT
UID:33667e55-b60c-4969-860a-1dc5f82a55e4@www.musicfuneralservices.com
DTSTAMP:20260423T180019Z
DTSTART:20260425T150000Z
DTEND:20260425T160000Z
SUMMARY:Funeral Service
DESCRIPTION:
URL:https://www.musicfuneralservices.com/obituaries/marie-coble
LOCATION:Music Funeral Services 88 West Main Street  Lakeland GA 31635
GEO:31.0402064;-83.0788769
END:VEVENT
END:VCALENDAR